BEGIN:VCALENDAR
VERSION:2.0
PRODID:-//Cholangiocarcinoma Australia - ECPv6.15.20//NONSGML v1.0//EN
CALSCALE:GREGORIAN
METHOD:PUBLISH
X-WR-CALNAME:Cholangiocarcinoma Australia
X-ORIGINAL-URL:https://cholangio.org
X-WR-CALDESC:Events for Cholangiocarcinoma Australia
REFRESH-INTERVAL;VALUE=DURATION:PT1H
X-Robots-Tag:noindex
X-PUBLISHED-TTL:PT1H
BEGIN:VTIMEZONE
TZID:Australia/Sydney
BEGIN:STANDARD
TZOFFSETFROM:+1100
TZOFFSETTO:+1000
TZNAME:AEST
DTSTART:20250405T160000
END:STANDARD
BEGIN:DAYLIGHT
TZOFFSETFROM:+1000
TZOFFSETTO:+1100
TZNAME:AEDT
DTSTART:20251004T160000
END:DAYLIGHT
BEGIN:STANDARD
TZOFFSETFROM:+1100
TZOFFSETTO:+1000
TZNAME:AEST
DTSTART:20260404T160000
END:STANDARD
BEGIN:DAYLIGHT
TZOFFSETFROM:+1000
TZOFFSETTO:+1100
TZNAME:AEDT
DTSTART:20261003T160000
END:DAYLIGHT
BEGIN:STANDARD
TZOFFSETFROM:+1100
TZOFFSETTO:+1000
TZNAME:AEST
DTSTART:20270403T160000
END:STANDARD
BEGIN:DAYLIGHT
TZOFFSETFROM:+1000
TZOFFSETTO:+1100
TZNAME:AEDT
DTSTART:20271002T160000
END:DAYLIGHT
END:VTIMEZONE
BEGIN:VEVENT
DTSTART;TZID=Australia/Sydney:20260220T140000
DTEND;TZID=Australia/Sydney:20260221T140000
DTSTAMP:20260425T083855
CREATED:20260217T215706Z
LAST-MODIFIED:20260218T015111Z
UID:101452-1771596000-1771682400@cholangio.org
SUMMARY:Luke's Cholangio Challenge
DESCRIPTION:Support Luke as He Takes on the Ultimate Challenge ~ \n5KM EVERY HOUR FOR 24 HOURS ! As part of Light Australia Green\, Cholangio Challengers take on self set challenges to honour love ones and help drive change. \nThis year\, Luke Edgerton will run 5km every hour on the hour for 24 hours in memory of his fiancée Catie\, who passed away from Cholangiocarcinoma at just 22. \nAfter losing his fiancée to a rare cancer in 2023\, Luke is putting his body on the line to raise awareness. His latest effort will start this Friday afternoon and run for 24  hours. \nYour donation supports the Cholangiocarcinoma Foundation Australia\, helping patients and families access vital information and support when they need it most. \nTo support Luke in his incredible fundraising efforts and help make a real difference\, please consider making a donation via the link below. \nhttps://cholangio-challengers.raiselysite.com/l-edgerton \nEvery contribution\, big or small\, will go a long way in backing his commitment and generosity.
URL:https://cholangio.org/event/lukes-cholangio-challenge/
LOCATION:Hanging Rock Sports Function Centre\, Hanging Rock Place\, Batemans Bay\, New South Wales\, 2536\, Australia
CATEGORIES:Calendar
ATTACH;FMTTYPE=image/jpeg:https://cholangio.org/wp-content/uploads/2026/02/Catie-Luke.jpg
END:VEVENT
END:VCALENDAR