BEGIN:VCALENDAR
VERSION:2.0
PRODID:-//Cholangiocarcinoma Australia - ECPv6.15.20//NONSGML v1.0//EN
CALSCALE:GREGORIAN
METHOD:PUBLISH
X-WR-CALNAME:Cholangiocarcinoma Australia
X-ORIGINAL-URL:https://cholangio.org
X-WR-CALDESC:Events for Cholangiocarcinoma Australia
REFRESH-INTERVAL;VALUE=DURATION:PT1H
X-Robots-Tag:noindex
X-PUBLISHED-TTL:PT1H
BEGIN:VTIMEZONE
TZID:Australia/Brisbane
BEGIN:STANDARD
TZOFFSETFROM:+1000
TZOFFSETTO:+1000
TZNAME:AEST
DTSTART:20240101T000000
END:STANDARD
END:VTIMEZONE
BEGIN:VEVENT
DTSTART;TZID=Australia/Brisbane:20251130T133000
DTEND;TZID=Australia/Brisbane:20251130T160000
DTSTAMP:20260425T135215
CREATED:20251023T045210Z
LAST-MODIFIED:20251023T051855Z
UID:100854-1764509400-1764518400@cholangio.org
SUMMARY:Catch Up - Sunshine Coast 2025
DESCRIPTION:Come and join us …   You’re Invited (and bring a friend) to a Cholangio Catch Up ! \nSteve and I would love to welcome our amazing Cholangio Patients and Caregivers to a special get-together in SUNSHINE COAST! \n  Join us on ~ \n\nSunday 30 November 2025\n1:30 – 4:00 pm\nMaroochydore Soccer Club\, 462 Maroochydore Road\, Kunda Park\, Maroochydore\, Sunshine Coast \n\nThis is a wonderful chance for us to connect\, share\, and support each other in person. Please let us know if you can make it so we can plan for catering. \nPlease RSVP thanks!! \nEmail: claire@cholangio.org
URL:https://cholangio.org/event/catch-up-sunshine-coast/
LOCATION:Maroochydore Soccer Club\, 462 Maroochydore Road\, Kundra Park\, Queensland\, 4558\, Australia
CATEGORIES:Calendar
ATTACH;FMTTYPE=image/jpeg:https://cholangio.org/wp-content/uploads/2025/10/Catch-Up-Sunshine-Coast-2025.jpg
END:VEVENT
END:VCALENDAR