BEGIN:VCALENDAR
VERSION:2.0
PRODID:-//Cholangiocarcinoma Australia - ECPv6.15.20//NONSGML v1.0//EN
CALSCALE:GREGORIAN
METHOD:PUBLISH
X-ORIGINAL-URL:https://cholangio.org
X-WR-CALDESC:Events for Cholangiocarcinoma Australia
REFRESH-INTERVAL;VALUE=DURATION:PT1H
X-Robots-Tag:noindex
X-PUBLISHED-TTL:PT1H
BEGIN:VTIMEZONE
TZID:Australia/Brisbane
BEGIN:STANDARD
TZOFFSETFROM:+1000
TZOFFSETTO:+1000
TZNAME:AEST
DTSTART:20250101T000000
END:STANDARD
END:VTIMEZONE
BEGIN:VEVENT
DTSTART;TZID=Australia/Brisbane:20260328T180000
DTEND;TZID=Australia/Brisbane:20260328T233000
DTSTAMP:20260425T051531
CREATED:20251203T060749Z
LAST-MODIFIED:20260401T062123Z
UID:100932-1774720800-1774740600@cholangio.org
SUMMARY:Cholangio Ball - Adrian Santaguida Legacy
DESCRIPTION:Come and join us at the inaugural Cholangio Ball honouring Adrian Santaguida’s legacy …✨ Accommodation Partner ✨ \nIf you’re looking for somewhere comfortable and convenient to stay\, check out Mercure WestWaters – Caroline Springs. A beautiful spot with modern rooms\, dining options and easy access into Melbourne. \n Call them directly on (03) 8358 0555 to book and make sure you mention you’re attending the Cholangio Ball to receive the special discounted rate.   \nYou can view details here:\n👉 https://mercurecs.com.au/ \nWe can’t wait to welcome you all for such a special evening 💚 \nWhether you’re able to join us on the night or choose to support through a donation\, we are so grateful to have you as part of our Cholangio community. \nJoin us for our 1st Cholangio Ball\, honouring Adrian Santaguida’s Legacy an evening of courage\, connection\, and remembrance. \nThis night has been created to honour those we love\, remember those we have lost\, and stand together in support of everyone affected by cholangiocarcinoma (bile duct cancer). It’s a chance for our Cholangio community to come together\, connect\, and support vital work that helps patients\, caregivers\, and families navigate this journey. \nTickets include canapés\, a three-course meal\, beverages\, guest speakers\, entertainment\, live and silent auctions. \nFunds raised will support patient-focused programs that provide guidance\, connection\, and practical support.
URL:https://cholangio.org/event/cholangio-ball/
LOCATION:Luxor Function Centre\, 503 Sydenham Road\, Sydenham\, Melbourne\, Victoria\, 3037\, Australia
CATEGORIES:Calendar
ATTACH;FMTTYPE=image/webp:https://cholangio.org/wp-content/uploads/2025/12/Luxor-.webp
END:VEVENT
END:VCALENDAR